BEGIN:VCALENDAR
VERSION:2.0
PRODID:-//Congregation Shaarie Torah - ECPv6.15.20//NONSGML v1.0//EN
CALSCALE:GREGORIAN
METHOD:PUBLISH
X-WR-CALNAME:Congregation Shaarie Torah
X-ORIGINAL-URL:https://shaarietorah.org
X-WR-CALDESC:Events for Congregation Shaarie Torah
REFRESH-INTERVAL;VALUE=DURATION:PT1H
X-Robots-Tag:noindex
X-PUBLISHED-TTL:PT1H
BEGIN:VTIMEZONE
TZID:America/Los_Angeles
BEGIN:DAYLIGHT
TZOFFSETFROM:-0800
TZOFFSETTO:-0700
TZNAME:PDT
DTSTART:20250309T100000
END:DAYLIGHT
BEGIN:STANDARD
TZOFFSETFROM:-0700
TZOFFSETTO:-0800
TZNAME:PST
DTSTART:20251102T090000
END:STANDARD
BEGIN:DAYLIGHT
TZOFFSETFROM:-0800
TZOFFSETTO:-0700
TZNAME:PDT
DTSTART:20260308T100000
END:DAYLIGHT
BEGIN:STANDARD
TZOFFSETFROM:-0700
TZOFFSETTO:-0800
TZNAME:PST
DTSTART:20261101T090000
END:STANDARD
BEGIN:DAYLIGHT
TZOFFSETFROM:-0800
TZOFFSETTO:-0700
TZNAME:PDT
DTSTART:20270314T100000
END:DAYLIGHT
BEGIN:STANDARD
TZOFFSETFROM:-0700
TZOFFSETTO:-0800
TZNAME:PST
DTSTART:20271107T090000
END:STANDARD
END:VTIMEZONE
BEGIN:VEVENT
DTSTART;TZID=America/Los_Angeles:20260422T113000
DTEND;TZID=America/Los_Angeles:20260422T131500
DTSTAMP:20260422T022823
CREATED:20251203T203342Z
LAST-MODIFIED:20251203T203358Z
UID:10002472-1776857400-1776863700@shaarietorah.org
SUMMARY:Adult B’nai Mitzvah: Chanting from the Torah
DESCRIPTION:Full Course Overview Register for this program here.\n\n📖 Deep Dive into the Torah ServiceHistory\, choreography\, meaning\, and musicDec 3\, 10\, 17\n\n\n\n🎶 Torah Trope: Learn the Music of the TorahMaster the cantillation system to prepare for chantingJan 7\, 14\, 21\, 28 | Feb 4\, 11\, 18\, 25\n\n\n\n📜 Chanting from the TorahApply your skills and practice with supportMar 4\, 11\, 18\, 25 | Apr 15\, 22\, 29\n\n\n\n🕯️ Preparation & Rehearsal to Lead Shabbat Services Bring it all together with coaching and practiceMay 6\, 13\, 20\, 27\n\n\n\n🎉 Adult B’nai Mitzvah Celebration & Kiddush LunchSaturday\, May 30\, 2026\n\n\n\n\n \n\n\n\n\nOur Adult B’nai Mitzvah (ABM) journey is your opportunity to reclaim\, rediscover\, and rejoice in Torah. Register for this program here.\nHave you always wanted to become b’nai mitzvah—but never had the chance? Are you ready to reconnect with Judaism with fresh eyes and a full heart? This is more than a class. It’s a spiritual milestone. A personal renewal. A sacred journey for adults of all backgrounds and learning levels. \n\n\n\nOver the course of this rich and supportive year\, participants will:✨ Build Jewish knowledge and spiritual confidence✨ Chant from the Torah and lead key parts of the Shabbat service✨ Write and deliver a meaningful D’var Torah✨ Create a personalized tallit—crafted by your own hands and heart✨ Celebrate your aliyah in a joyful community celebration \n\n\n\n\n🗓️ ScheduleWednesdays: 11:30 AM – 1:15 PM11:30–12:00 – Brown Bag Lunch & Hevruta (study partner) Check-In12:00–1:15 – Weekly Learning Session
URL:https://shaarietorah.org/event/adult-bnai-mitzvah-chanting-from-the-torah/2026-04-22/
CATEGORIES:Adult Education
END:VEVENT
END:VCALENDAR